BEGIN:VCALENDAR
VERSION:2.0
METHOD:PUBLISH
X-WR-CALNAME:Waterlea School |  June 01 2018- July 01 2018
PRODID:-//strange bird labs//Drupal iCal API//EN
BEGIN:VEVENT
DTSTAMP;VALUE=DATE-TIME:20181222T154155Z
DTSTART;VALUE=DATE-TIME:20180619T111700Z
DTEND;VALUE=DATE-TIME:20180620T101700Z
UID:http://waterlea.school.nz/school-finishes-early-wed-20-june-0
URL;VALUE=URI:http://waterlea.school.nz/school-finishes-early-wed-20-june-0
SUMMARY:School Finishes Early Wed 20 June
DESCRIPTION:<p>Just a reminder that we have asked that children are collected at 12.50 tomorrow as teachers are going to Union Meetings. School will remain open for the afternoon but we would encourage parents to pick children up at lunchtime if possible. If you are unable to pick your children up they will be looked after until 3pm by the teachers who will be remaining at school. Skids will also be on site from 12.50pm. Thank you for your support.</p>
 
END:VEVENT
END:VCALENDAR
