BEGIN:VCALENDAR
VERSION:2.0
METHOD:PUBLISH
X-WR-CALNAME:Waterlea School |  September 01 2017- October 01 2017
PRODID:-//strange bird labs//Drupal iCal API//EN
BEGIN:VEVENT
DTSTAMP;VALUE=DATE-TIME:20181222T155204Z
DTSTART;VALUE=DATE-TIME:20170912T202000Z
DTEND;VALUE=DATE-TIME:20170912T213000Z
UID:http://waterlea.school.nz/year-4-6-fun-run-and-cross-country
URL;VALUE=URI:http://waterlea.school.nz/year-4-6-fun-run-and-cross-country
SUMMARY:Year 4-6 Fun Run and Cross Country
DESCRIPTION:<p>The Senior School Fun Run is being on Wednesday 13 September from 9.20am\, weather permitting. As the weather has been so changeable we will update the website and Parent Teacher App on the morning to advise if it is going ahead. Update\: Beautiful morning... cross country is going ahead!</p>
 
END:VEVENT
BEGIN:VEVENT
DTSTAMP;VALUE=DATE-TIME:20181222T155204Z
DTSTART;VALUE=DATE-TIME:20170921T040000Z
DTEND;VALUE=DATE-TIME:20170921T070000Z
UID:http://waterlea.school.nz/pta-family-movie-night
URL;VALUE=URI:http://waterlea.school.nz/pta-family-movie-night
SUMMARY:PTA Family Movie Night!
DESCRIPTION:<p>Fox and the Waterlea PTA present \\"BOSS BABY\\" - Thursday 21 September\, David Lange Hall\, doors open 5pm\, movie starts at 5.30pm. Sausage sizzle from 5pm\, snacks and drinks available\, kids raffle $2. Tickets are $3 - available from the office or on the night.&nbsp\;</p>
 
END:VEVENT
BEGIN:VEVENT
DTSTAMP;VALUE=DATE-TIME:20181222T155204Z
DTSTART;VALUE=DATE-TIME:20170921T200000Z
DTEND;VALUE=DATE-TIME:20170921T210000Z
UID:http://waterlea.school.nz/year-1-3-fun-run
URL;VALUE=URI:http://waterlea.school.nz/year-1-3-fun-run
SUMMARY:Year 1-3 Fun Run
DESCRIPTION:<p>The Year 1-3 students have been getting into training for our Fun Run which we are hoping will go ahead next Friday 22nd September from 9.00am-9.45am. Due to the amount of rain we have had over recent weeks the school field is not in the best condition for sporting activities\, so we will reassess early next week and postpone the Fun Run until early Term 4 if necessary. We will keep you informed</p>
 
END:VEVENT
END:VCALENDAR
